BEGIN:VCALENDAR
VERSION:2.0
PRODID:-//Stichting PSMA forum NL - ECPv6.15.20//NONSGML v1.0//EN
CALSCALE:GREGORIAN
METHOD:PUBLISH
X-ORIGINAL-URL:https://psmaforum.nl
X-WR-CALDESC:Evenementen voor Stichting PSMA forum NL
REFRESH-INTERVAL;VALUE=DURATION:PT1H
X-Robots-Tag:noindex
X-PUBLISHED-TTL:PT1H
BEGIN:VTIMEZONE
TZID:Europe/Amsterdam
BEGIN:DAYLIGHT
TZOFFSETFROM:+0100
TZOFFSETTO:+0200
TZNAME:CEST
DTSTART:20250330T010000
END:DAYLIGHT
BEGIN:STANDARD
TZOFFSETFROM:+0200
TZOFFSETTO:+0100
TZNAME:CET
DTSTART:20251026T010000
END:STANDARD
BEGIN:DAYLIGHT
TZOFFSETFROM:+0100
TZOFFSETTO:+0200
TZNAME:CEST
DTSTART:20260329T010000
END:DAYLIGHT
BEGIN:STANDARD
TZOFFSETFROM:+0200
TZOFFSETTO:+0100
TZNAME:CET
DTSTART:20261025T010000
END:STANDARD
BEGIN:DAYLIGHT
TZOFFSETFROM:+0100
TZOFFSETTO:+0200
TZNAME:CEST
DTSTART:20270328T010000
END:DAYLIGHT
BEGIN:STANDARD
TZOFFSETFROM:+0200
TZOFFSETTO:+0100
TZNAME:CET
DTSTART:20271031T010000
END:STANDARD
END:VTIMEZONE
BEGIN:VEVENT
DTSTART;TZID=Europe/Amsterdam:20260227T153000
DTEND;TZID=Europe/Amsterdam:20260228T150000
DTSTAMP:20260421T214111
CREATED:20260201T221919Z
LAST-MODIFIED:20260201T221919Z
UID:7870-1772206200-1772290800@psmaforum.nl
SUMMARY:ASCO Direct™ GU 2026: Symposium Genitourinaire Oncologie
DESCRIPTION:De tweedaagse ASCO Direct™ GU vindt wederom plaats in Den Dolder.\nDit concept brengt het ASCO Genitourinary Cancers Symposium naar Nederland voor twee dagen kennisdeling en een multidisciplinair gesprek.\nGezamenlijk volgt u geselecteerde sessies van ASCO GU\, ingeleid en becommentarieerd door de wetenschappelijke commissie.\nDaarnaast is er een live verbinding met San Francisco en wordt de klinische relevantie voor de Nederlandse praktijk geduid. \n\n\nPraktische Informatie\n\nDatum: Vrijdag 27 februari (vanaf 15.30 uur) tot en met zaterdag 28 februari 2026 (15.00 uur).\nLocatie: Ernst Sillem Hoeve\, Soestdijkerweg 10b\, Den Dolder.\nDoelgroep: Internist-oncologen\, urologen\, radiotherapeuten\, nucleair geneeskundigen en verpleegkundig specialisten.\nKosten: € 150\,- incl. btw (deelname + overnachting).\nAccreditatie: In aanvraag bij NIV\, NVU\, NVRO\, NVNG en VSR.\n\nDownload
URL:https://psmaforum.nl/event/asco-direct-gu-2026-symposium-genitourinaire-oncologie/
END:VEVENT
BEGIN:VEVENT
DTSTART;TZID=Europe/Amsterdam:20260305T140000
DTEND;TZID=Europe/Amsterdam:20260305T163000
DTSTAMP:20260421T214111
CREATED:20260130T201606Z
LAST-MODIFIED:20260216T214052Z
UID:7851-1772719200-1772728200@psmaforum.nl
SUMMARY:PSMA forum NL bijeenkomst donderdag 5 maart
DESCRIPTION:Meld u nu aan voor de online bijeenkomst op donderdag 5 maart 2026. Een middag vol wetenschappelijke updates\, praktijkcasuïstiek en discussie met experts uit het veld. \n\nDetails van het evenement\n\n📅 Datum: Donderdag 5 maart 2026\n⏳ Tijd: 14.00 – 16.30 uur\n📍 Locatie: Online via Zoom\n🎙️ Voorzitter: Prof. dr. Daniela Oprea-Lager\n\n\nAgenda\n\n\n\nTijd\nOnderwerp / Spreker\n\n\n\n\n14.00-14.05\nWelkom en mededelingen\nProf. dr. Daniela Oprea-Lager\, voorzitter PSMA forum NL\n\n\n14.05-14.30\nWat is het bewijs voor radiotherapie bij oligometastasen van het prostaatcarcinoom?\nAss. Prof. Jochem van der Voort van Zyp\, radiotherapeut-oncoloog\, UMCU\n\n\n14.30-14.50\nGezondheids economische evaluatie van PSMA PET/CT bij mCRPC patiënten\nSietse van Mossel PhD\, LUMC – Universiteit Twente\n\n\n14.50-15.05\nADOPT studie: het vervolg\nDrs. Ruth van der Walle\, arts onderzoeker Radiotherapie\, UMCG\n\n\n15.05-15.10 Korte pauze\n\n\n15.10-15.35\n177-Lu-PSMA in oligometastatic hormone sensitive prostate cancer\nDr. Bastiaan Privé\, radiotherapeut-oncoloog i.o.\, Erasmus MC\n\n\n15.35-16.05\nPORTAL studie: Risicoclassificatie voor metachroon oligogemetastaseerd prostaatcarcinoom\nDr. Timo Soeterik\, radiotherapeut-oncoloog i.o.\, UMCU\n\n\n16.05-16.15\nWetenswaardigheden\, samenwerking\, bijeenkomsten\nDr. Linda Heijmen\, secretaris PSMA forum NL\n\n\n16.15-16.30\nDiversen PSMA forum NL en de actualiteiten\n\n\n\n\nAanmelden\nVul het onderstaande formulier in om u te registreren voor de bijeenkomst. Na registratie ontvangt u de link voor de Zoom-sessie.
URL:https://psmaforum.nl/event/psma-forum-nl-bijeenkomst-donderdag-5-maart/
END:VEVENT
BEGIN:VEVENT
DTSTART;VALUE=DATE:20260622
DTEND;VALUE=DATE:20260627
DTSTAMP:20260421T214111
CREATED:20260308T103139Z
LAST-MODIFIED:20260311T143157Z
UID:7926-1782086400-1782518399@psmaforum.nl
SUMMARY:Summer school: Basic Dosimetry and Radiobiology for Radionuclide Therapy
DESCRIPTION:Datum: 22 – 26 juni\nLocatie: Nijmegen\nVerdiep je in de fundamenten van radionuclidentherapie tijdens onze exclusieve Summer School in Nijmegen. Van 22 tot en met 26 juni organiseren we een intensieve week gericht op de theorie en praktijk van radiobiologie en dosimetrie.Onder leiding van organisatoren Steffie Peters\, Julie Nonnekens en Mark Rijpkema\, biedt deze cursus toegang tot de expertise van vooraanstaande docenten van het Radboudumc\, Erasmus MC\, TU Delft\, NKI-AVL en UMCG. \nDoelgroep\nDeze Summer School is bedoeld voor iedereen die werkzaam is in de radionuclidentherapie (minimaal afgeronde BSc) en meer wil leren over de biologische effecten en de berekening van stralingsdoses in een klinische en wetenschappelijke context. \nBelangrijke data\n\nEarly bird deadline: 1 april\nDefinitieve inschrijfdeadline: 15 mei\n\n\nBekijk het volledige programma en meld je aan
URL:https://psmaforum.nl/event/summer-school-basic-dosimetry-and-radiobiology-for-radionuclide-therapy/
ATTACH;FMTTYPE=image/jpeg:https://psmaforum.nl/wp-content/uploads/2026/03/Basic-Dosimetry-and-Radiobiology-scaled.jpg
END:VEVENT
END:VCALENDAR