BEGIN:VCALENDAR
VERSION:2.0
PRODID:-//Stichting PSMA forum NL - ECPv6.15.20//NONSGML v1.0//EN
CALSCALE:GREGORIAN
METHOD:PUBLISH
X-ORIGINAL-URL:https://psmaforum.nl
X-WR-CALDESC:Evenementen voor Stichting PSMA forum NL
REFRESH-INTERVAL;VALUE=DURATION:PT1H
X-Robots-Tag:noindex
X-PUBLISHED-TTL:PT1H
BEGIN:VTIMEZONE
TZID:Europe/Amsterdam
BEGIN:DAYLIGHT
TZOFFSETFROM:+0100
TZOFFSETTO:+0200
TZNAME:CEST
DTSTART:20250330T010000
END:DAYLIGHT
BEGIN:STANDARD
TZOFFSETFROM:+0200
TZOFFSETTO:+0100
TZNAME:CET
DTSTART:20251026T010000
END:STANDARD
BEGIN:DAYLIGHT
TZOFFSETFROM:+0100
TZOFFSETTO:+0200
TZNAME:CEST
DTSTART:20260329T010000
END:DAYLIGHT
BEGIN:STANDARD
TZOFFSETFROM:+0200
TZOFFSETTO:+0100
TZNAME:CET
DTSTART:20261025T010000
END:STANDARD
BEGIN:DAYLIGHT
TZOFFSETFROM:+0100
TZOFFSETTO:+0200
TZNAME:CEST
DTSTART:20270328T010000
END:DAYLIGHT
BEGIN:STANDARD
TZOFFSETFROM:+0200
TZOFFSETTO:+0100
TZNAME:CET
DTSTART:20271031T010000
END:STANDARD
END:VTIMEZONE
BEGIN:VEVENT
DTSTART;TZID=Europe/Amsterdam:20260209T200000
DTEND;TZID=Europe/Amsterdam:20260209T210000
DTSTAMP:20260421T144834
CREATED:20251031T195153Z
LAST-MODIFIED:20251211T213742Z
UID:7602-1770667200-1770670800@psmaforum.nl
SUMMARY:PSMA forum NL onderwijsmaand
DESCRIPTION:Onderwijssessie 3: Urologie\n\n        Datum: Maandag 9 februari 2026 \n        Tijd: 20:00 – 21:00 uur (Digitale inloop vanaf 19.50 uur) \n        Locatie: Online via Zoom\n     \nProgramma:\n\n\n\nTijd\nOnderwerp\nSpreker/Moderator\n\n\n\n\n19.50 – 20.00\nDigitale inloop en kort welkom\nProf. Dr. Jeroen van Moorselaar \n\n\n20.00 – 20.30\nRol PNLD diagnostisch vs. therapeutisch PSMA-PET als gatekeeper voor de PLND\nDr. Jean-Paul van Basten\, uroloog CWZ Nijmegen \n\n\n20.30 – 21.00\nImpact PSMA PET op prostaatkanker stadiëring en risicostratificatie.\nDr. Timo Soeterik\, Radiotherapeut oncoloog i.o.\, UMC Utrecht \n\n\n21.00 – 21.05\nAfsluiting
URL:https://psmaforum.nl/event/psma-forum-nl-onderwijsmaand/
END:VEVENT
END:VCALENDAR